BEGIN:VCALENDAR
VERSION:2.0
PRODID:-//eventon.com NONSGML v1.0//EN
CALSCALE:GREGORIAN
METHOD:PUBLISH
BEGIN:VEVENT
UID:69ed7927a1a73
DTSTAMP:20260426T023207Z
DTSTART:20260810T203000Z
DTEND:20260810T220000Z
LOCATION:
SUMMARY:Open Hockey 4:30 TO 6
DESCRIPTION:Open Hockey 4:30 TO 6\nhttps://www.northlandicecenter.com/event
 s/open-hockey-430-to-6-85/
URL:https://www.northlandicecenter.com/events/open-hockey-430-to-6-85/
END:VEVENT
END:VCALENDAR