BEGIN:VCALENDAR
VERSION:2.0
PRODID:-//eventon.com NONSGML v1.0//EN
CALSCALE:GREGORIAN
METHOD:PUBLISH
BEGIN:VEVENT
UID:69ecf8254cafb
DTSTAMP:20260425T172141Z
DTSTART:20260810T120000Z
DTEND:20260810T170000Z
LOCATION:
SUMMARY:NSA Summer Academy
DESCRIPTION:NSA Summer Academy\nhttps://www.northlandicecenter.com/events/n
 sa-summer-academy-86/
URL:https://www.northlandicecenter.com/events/nsa-summer-academy-86/
END:VEVENT
END:VCALENDAR