BEGIN:VCALENDAR
VERSION:2.0
PRODID:-//eventon.com NONSGML v1.0//EN
CALSCALE:GREGORIAN
METHOD:PUBLISH
BEGIN:VEVENT
UID:69ec2db2e7dd3
DTSTAMP:20260425T025754Z
DTSTART:20260809T140000Z
DTEND:20260809T150000Z
LOCATION:
SUMMARY:Moeller 10 to
DESCRIPTION:Moeller 10 to\nhttps://www.northlandicecenter.com/events/moelle
 r-10-to-11/
URL:https://www.northlandicecenter.com/events/moeller-10-to-11/
END:VEVENT
END:VCALENDAR