BEGIN:VCALENDAR
VERSION:2.0
PRODID:-//eventon.com NONSGML v1.0//EN
CALSCALE:GREGORIAN
METHOD:PUBLISH
BEGIN:VEVENT
UID:69ebe9320c4a9
DTSTAMP:20260424T220538Z
DTSTART:20260809T000000Z
DTEND:20260809T020000Z
LOCATION:
SUMMARY:Public Skating 8 to 10
DESCRIPTION:Public Skating 8 to 10\nhttps://www.northlandicecenter.com/even
 ts/public-skating-8-to-10-35/
URL:https://www.northlandicecenter.com/events/public-skating-8-to-10-35/
END:VEVENT
END:VCALENDAR