BEGIN:VCALENDAR
VERSION:2.0
PRODID:-//eventon.com NONSGML v1.0//EN
CALSCALE:GREGORIAN
METHOD:PUBLISH
BEGIN:VEVENT
UID:69ebd2e0260d1
DTSTAMP:20260424T203024Z
DTSTART:20260808T180000Z
DTEND:20260808T200000Z
LOCATION:
SUMMARY:Public Skating 2 to 4
DESCRIPTION:Public Skating 2 to 4\nhttps://www.northlandicecenter.com/event
 s/public-skating-2-to-4-27/
URL:https://www.northlandicecenter.com/events/public-skating-2-to-4-27/
END:VEVENT
END:VCALENDAR