BEGIN:VCALENDAR
VERSION:2.0
PRODID:-//eventon.com NONSGML v1.0//EN
CALSCALE:GREGORIAN
METHOD:PUBLISH
BEGIN:VEVENT
UID:69eba43c210ae
DTSTAMP:20260424T171124Z
DTSTART:20260808T170000Z
DTEND:20260808T180000Z
LOCATION:
SUMMARY:Group Lessons 1 to 2
DESCRIPTION:Group Lessons 1 to 2\nhttps://www.northlandicecenter.com/events
 /group-lessons-1-to-2-28/
URL:https://www.northlandicecenter.com/events/group-lessons-1-to-2-28/
END:VEVENT
END:VCALENDAR