BEGIN:VCALENDAR
VERSION:2.0
PRODID:-//eventon.com NONSGML v1.0//EN
CALSCALE:GREGORIAN
METHOD:PUBLISH
BEGIN:VEVENT
UID:69eb91039f5c1
DTSTAMP:20260424T154923Z
DTSTART:20260808T000000Z
DTEND:20260808T020000Z
LOCATION:
SUMMARY:Public Skating 8 to 10
DESCRIPTION:Public Skating 8 to 10\nhttps://www.northlandicecenter.com/even
 ts/public-skating-8-to-10-33/
URL:https://www.northlandicecenter.com/events/public-skating-8-to-10-33/
END:VEVENT
END:VCALENDAR