BEGIN:VCALENDAR
VERSION:2.0
PRODID:-//eventon.com NONSGML v1.0//EN
CALSCALE:GREGORIAN
METHOD:PUBLISH
BEGIN:VEVENT
UID:69eac761864e2
DTSTAMP:20260424T012905Z
DTSTART:20260807T120000Z
DTEND:20260807T170000Z
LOCATION:
SUMMARY:NSA Summer Academy
DESCRIPTION:NSA Summer Academy\nhttps://www.northlandicecenter.com/events/n
 sa-summer-academy-83/
URL:https://www.northlandicecenter.com/events/nsa-summer-academy-83/
END:VEVENT
END:VCALENDAR