BEGIN:VCALENDAR
VERSION:2.0
PRODID:-//eventon.com NONSGML v1.0//EN
CALSCALE:GREGORIAN
METHOD:PUBLISH
BEGIN:VEVENT
UID:69eab18f45ab2
DTSTAMP:20260423T235559Z
DTSTART:20260806T203000Z
DTEND:20260806T220000Z
LOCATION:
SUMMARY:Open Hockey 4:30 TO 6
DESCRIPTION:Open Hockey 4:30 TO 6\nhttps://www.northlandicecenter.com/event
 s/open-hockey-430-to-6-82/
URL:https://www.northlandicecenter.com/events/open-hockey-430-to-6-82/
END:VEVENT
END:VCALENDAR