BEGIN:VCALENDAR
VERSION:2.0
PRODID:-//eventon.com NONSGML v1.0//EN
CALSCALE:GREGORIAN
METHOD:PUBLISH
BEGIN:VEVENT
UID:69ea6bb75b4a3
DTSTAMP:20260423T185759Z
DTSTART:20260806T190000Z
DTEND:20260806T203000Z
LOCATION:
SUMMARY:Stick & Puck 3 to 4:30
DESCRIPTION:Stick &#038; Puck 3 to 4:30\nhttps://www.northlandicecenter.com
 /events/stick-puck-3-to-430-68/
URL:https://www.northlandicecenter.com/events/stick-puck-3-to-430-68/
END:VEVENT
END:VCALENDAR