BEGIN:VCALENDAR
VERSION:2.0
PRODID:-//eventon.com NONSGML v1.0//EN
CALSCALE:GREGORIAN
METHOD:PUBLISH
BEGIN:VEVENT
UID:69ea34ebf3536
DTSTAMP:20260423T150411Z
DTSTART:20260806T120000Z
DTEND:20260806T170000Z
LOCATION:
SUMMARY:NSA Summer Academy
DESCRIPTION:NSA Summer Academy\nhttps://www.northlandicecenter.com/events/n
 sa-summer-academy-82/
URL:https://www.northlandicecenter.com/events/nsa-summer-academy-82/
END:VEVENT
END:VCALENDAR