BEGIN:VCALENDAR
VERSION:2.0
PRODID:-//eventon.com NONSGML v1.0//EN
CALSCALE:GREGORIAN
METHOD:PUBLISH
BEGIN:VEVENT
UID:69e9ee30e48f2
DTSTAMP:20260423T100224Z
DTSTART:20260805T220000Z
DTEND:20260805T233000Z
LOCATION:
SUMMARY:BarDown 6 to 7:30
DESCRIPTION:BarDown 6 to 7:30\nhttps://www.northlandicecenter.com/events/ba
 rdown-6-to-730-6/
URL:https://www.northlandicecenter.com/events/bardown-6-to-730-6/
END:VEVENT
END:VCALENDAR