BEGIN:VCALENDAR
VERSION:2.0
PRODID:-//eventon.com NONSGML v1.0//EN
CALSCALE:GREGORIAN
METHOD:PUBLISH
BEGIN:VEVENT
UID:69e72ba6c8e83
DTSTAMP:20260421T074750Z
DTSTART:20260805T203000Z
DTEND:20260805T220000Z
LOCATION:
SUMMARY:Open Hockey 4:30 TO 6
DESCRIPTION:Open Hockey 4:30 TO 6\nhttps://www.northlandicecenter.com/event
 s/open-hockey-430-to-6-79/
URL:https://www.northlandicecenter.com/events/open-hockey-430-to-6-79/
END:VEVENT
END:VCALENDAR