BEGIN:VCALENDAR
VERSION:2.0
PRODID:-//eventon.com NONSGML v1.0//EN
CALSCALE:GREGORIAN
METHOD:PUBLISH
BEGIN:VEVENT
UID:69e7133ceb78e
DTSTAMP:20260421T060340Z
DTSTART:20260805T190000Z
DTEND:20260805T203000Z
LOCATION:
SUMMARY:Stick & Puck 3 to 4:30
DESCRIPTION:Stick &#038; Puck 3 to 4:30\nhttps://www.northlandicecenter.com
 /events/stick-puck-3-to-430-67/
URL:https://www.northlandicecenter.com/events/stick-puck-3-to-430-67/
END:VEVENT
END:VCALENDAR