BEGIN:VCALENDAR
VERSION:2.0
PRODID:-//eventon.com NONSGML v1.0//EN
CALSCALE:GREGORIAN
METHOD:PUBLISH
BEGIN:VEVENT
UID:69e6c91ec824e
DTSTAMP:20260421T004726Z
DTSTART:20260805T170000Z
DTEND:20260805T190000Z
LOCATION:
SUMMARY:Public Skating 1 to 3
DESCRIPTION:Public Skating 1 to 3\nhttps://www.northlandicecenter.com/event
 s/public-skating-1-to-3-134/
URL:https://www.northlandicecenter.com/events/public-skating-1-to-3-134/
END:VEVENT
END:VCALENDAR