BEGIN:VCALENDAR
VERSION:2.0
PRODID:-//eventon.com NONSGML v1.0//EN
CALSCALE:GREGORIAN
METHOD:PUBLISH
BEGIN:VEVENT
UID:69e691acd9362
DTSTAMP:20260420T205052Z
DTSTART:20260805T120000Z
DTEND:20260805T170000Z
LOCATION:
SUMMARY:NSA Summer Academy
DESCRIPTION:NSA Summer Academy\nhttps://www.northlandicecenter.com/events/n
 sa-summer-academy-79/
URL:https://www.northlandicecenter.com/events/nsa-summer-academy-79/
END:VEVENT
END:VCALENDAR