BEGIN:VCALENDAR
VERSION:2.0
PRODID:-//eventon.com NONSGML v1.0//EN
CALSCALE:GREGORIAN
METHOD:PUBLISH
BEGIN:VEVENT
UID:69e6487282fab
DTSTAMP:20260420T153826Z
DTSTART:20260804T190000Z
DTEND:20260804T203000Z
LOCATION:
SUMMARY:Stick & Puck 3 to 4:30
DESCRIPTION:Stick &#038; Puck 3 to 4:30\nhttps://www.northlandicecenter.com
 /events/stick-puck-3-to-430-65/
URL:https://www.northlandicecenter.com/events/stick-puck-3-to-430-65/
END:VEVENT
END:VCALENDAR