BEGIN:VCALENDAR
VERSION:2.0
PRODID:-//eventon.com NONSGML v1.0//EN
CALSCALE:GREGORIAN
METHOD:PUBLISH
BEGIN:VEVENT
UID:69e9d79c47002
DTSTAMP:20260423T082604Z
DTSTART:20260803T190000Z
DTEND:20260803T203000Z
LOCATION:
SUMMARY:Stick & Puck 3 to 4:30
DESCRIPTION:Stick &#038; Puck 3 to 4:30\nhttps://www.northlandicecenter.com
 /events/stick-puck-3-to-430-63/
URL:https://www.northlandicecenter.com/events/stick-puck-3-to-430-63/
END:VEVENT
END:VCALENDAR