BEGIN:VCALENDAR
VERSION:2.0
PRODID:-//eventon.com NONSGML v1.0//EN
CALSCALE:GREGORIAN
METHOD:PUBLISH
BEGIN:VEVENT
UID:69e9d76d810b6
DTSTAMP:20260423T082517Z
DTSTART:20260802T180000Z
DTEND:20260802T200000Z
LOCATION:
SUMMARY:Public Skating 2 to 4
DESCRIPTION:Public Skating 2 to 4\nhttps://www.northlandicecenter.com/event
 s/public-skating-2-to-4-25/
URL:https://www.northlandicecenter.com/events/public-skating-2-to-4-25/
END:VEVENT
END:VCALENDAR