BEGIN:VCALENDAR
VERSION:2.0
PRODID:-//eventon.com NONSGML v1.0//EN
CALSCALE:GREGORIAN
METHOD:PUBLISH
BEGIN:VEVENT
UID:69e506a64bfc8
DTSTAMP:20260419T164526Z
DTSTART:20260802T170000Z
DTEND:20260802T180000Z
LOCATION:
SUMMARY:Swords 1 to 2 LTPH
DESCRIPTION:Swords 1 to 2 LTPH\nhttps://www.northlandicecenter.com/events/s
 words-1-to-2-ltph-12/
URL:https://www.northlandicecenter.com/events/swords-1-to-2-ltph-12/
END:VEVENT
END:VCALENDAR