BEGIN:VCALENDAR
VERSION:2.0
PRODID:-//eventon.com NONSGML v1.0//EN
CALSCALE:GREGORIAN
METHOD:PUBLISH
BEGIN:VEVENT
UID:69e5343adefc5
DTSTAMP:20260419T195954Z
DTSTART:20260802T140000Z
DTEND:20260802T150000Z
LOCATION:
SUMMARY:Moeller 10 to
DESCRIPTION:Moeller 10 to\nhttps://www.northlandicecenter.com/events/moelle
 r-10-to-10/
URL:https://www.northlandicecenter.com/events/moeller-10-to-10/
END:VEVENT
END:VCALENDAR