BEGIN:VCALENDAR
VERSION:2.0
PRODID:-//eventon.com NONSGML v1.0//EN
CALSCALE:GREGORIAN
METHOD:PUBLISH
BEGIN:VEVENT
UID:69e5afaca115c
DTSTAMP:20260420T044636Z
DTSTART:20260801T170000Z
DTEND:20260801T180000Z
LOCATION:
SUMMARY:Group Lessons 1 to 2
DESCRIPTION:Group Lessons 1 to 2\nhttps://www.northlandicecenter.com/events
 /group-lessons-1-to-2-27/
URL:https://www.northlandicecenter.com/events/group-lessons-1-to-2-27/
END:VEVENT
END:VCALENDAR