BEGIN:VCALENDAR
VERSION:2.0
PRODID:-//eventon.com NONSGML v1.0//EN
CALSCALE:GREGORIAN
METHOD:PUBLISH
BEGIN:VEVENT
UID:69e5e3b21e758
DTSTAMP:20260420T082834Z
DTSTART:20260801T000000Z
DTEND:20260801T020000Z
LOCATION:
SUMMARY:Public Skating 8 to 10
DESCRIPTION:Public Skating 8 to 10\nhttps://www.northlandicecenter.com/even
 ts/public-skating-8-to-10-30/
URL:https://www.northlandicecenter.com/events/public-skating-8-to-10-30/
END:VEVENT
END:VCALENDAR