BEGIN:VCALENDAR
VERSION:2.0
PRODID:-//eventon.com NONSGML v1.0//EN
CALSCALE:GREGORIAN
METHOD:PUBLISH
BEGIN:VEVENT
UID:69e5ed81d6b6b
DTSTAMP:20260420T091025Z
DTSTART:20260730T190000Z
DTEND:20260730T203000Z
LOCATION:
SUMMARY:Stick & Puck 3 to 4:30
DESCRIPTION:Stick &#038; Puck 3 to 4:30\nhttps://www.northlandicecenter.com
 /events/stick-puck-3-to-430-58/
URL:https://www.northlandicecenter.com/events/stick-puck-3-to-430-58/
END:VEVENT
END:VCALENDAR