BEGIN:VCALENDAR
VERSION:2.0
PRODID:-//eventon.com NONSGML v1.0//EN
CALSCALE:GREGORIAN
METHOD:PUBLISH
BEGIN:VEVENT
UID:69e8d6404cca6
DTSTAMP:20260422T140800Z
DTSTART:20260729T190000Z
DTEND:20260729T203000Z
LOCATION:
SUMMARY:Stick & Puck 3 to 4:30
DESCRIPTION:Stick &#038; Puck 3 to 4:30\nhttps://www.northlandicecenter.com
 /events/stick-puck-3-to-430-57/
URL:https://www.northlandicecenter.com/events/stick-puck-3-to-430-57/
END:VEVENT
END:VCALENDAR