BEGIN:VCALENDAR
VERSION:2.0
PRODID:-//eventon.com NONSGML v1.0//EN
CALSCALE:GREGORIAN
METHOD:PUBLISH
BEGIN:VEVENT
UID:69e93bf8800ba
DTSTAMP:20260422T212200Z
DTSTART:20260729T120000Z
DTEND:20260729T170000Z
LOCATION:
SUMMARY:NSA Summer Academy
DESCRIPTION:NSA Summer Academy\nhttps://www.northlandicecenter.com/events/n
 sa-summer-academy-70/
URL:https://www.northlandicecenter.com/events/nsa-summer-academy-70/
END:VEVENT
END:VCALENDAR