BEGIN:VCALENDAR
VERSION:2.0
PRODID:-//eventon.com NONSGML v1.0//EN
CALSCALE:GREGORIAN
METHOD:PUBLISH
BEGIN:VEVENT
UID:69e9d76d7d185
DTSTAMP:20260423T082517Z
DTSTART:20260728T203000Z
DTEND:20260728T220000Z
LOCATION:
SUMMARY:Open Hockey 4:30 TO 6
DESCRIPTION:Open Hockey 4:30 TO 6\nhttps://www.northlandicecenter.com/event
 s/open-hockey-430-to-6-67/
URL:https://www.northlandicecenter.com/events/open-hockey-430-to-6-67/
END:VEVENT
END:VCALENDAR