BEGIN:VCALENDAR
VERSION:2.0
PRODID:-//eventon.com NONSGML v1.0//EN
CALSCALE:GREGORIAN
METHOD:PUBLISH
BEGIN:VEVENT
UID:69ea1c67a3011
DTSTAMP:20260423T131935Z
DTSTART:20260724T120000Z
DTEND:20260724T170000Z
LOCATION:
SUMMARY:NSA Summer Academy
DESCRIPTION:NSA Summer Academy\nhttps://www.northlandicecenter.com/events/n
 sa-summer-academy-63/
URL:https://www.northlandicecenter.com/events/nsa-summer-academy-63/
END:VEVENT
END:VCALENDAR