BEGIN:VCALENDAR
VERSION:2.0
PRODID:-//eventon.com NONSGML v1.0//EN
CALSCALE:GREGORIAN
METHOD:PUBLISH
BEGIN:VEVENT
UID:69ea817229280
DTSTAMP:20260423T203042Z
DTSTART:20260723T190000Z
DTEND:20260723T203000Z
LOCATION:
SUMMARY:Stick & Puck 3 to 4:30
DESCRIPTION:Stick &#038; Puck 3 to 4:30\nhttps://www.northlandicecenter.com
 /events/stick-puck-3-to-430-48/
URL:https://www.northlandicecenter.com/events/stick-puck-3-to-430-48/
END:VEVENT
END:VCALENDAR