BEGIN:VCALENDAR
VERSION:2.0
PRODID:-//eventon.com NONSGML v1.0//EN
CALSCALE:GREGORIAN
METHOD:PUBLISH
BEGIN:VEVENT
UID:69e8d4f8bef61
DTSTAMP:20260422T140232Z
DTSTART:20260723T120000Z
DTEND:20260723T170000Z
LOCATION:
SUMMARY:NSA Summer Academy
DESCRIPTION:NSA Summer Academy\nhttps://www.northlandicecenter.com/events/n
 sa-summer-academy-62/
URL:https://www.northlandicecenter.com/events/nsa-summer-academy-62/
END:VEVENT
END:VCALENDAR