BEGIN:VCALENDAR
VERSION:2.0
PRODID:-//eventon.com NONSGML v1.0//EN
CALSCALE:GREGORIAN
METHOD:PUBLISH
BEGIN:VEVENT
UID:69e89ef28b598
DTSTAMP:20260422T101202Z
DTSTART:20260722T220000Z
DTEND:20260722T233000Z
LOCATION:
SUMMARY:BarDown 6 to 7:30
DESCRIPTION:BarDown 6 to 7:30\nhttps://www.northlandicecenter.com/events/ba
 rdown-6-to-730-5/
URL:https://www.northlandicecenter.com/events/bardown-6-to-730-5/
END:VEVENT
END:VCALENDAR