BEGIN:VCALENDAR
VERSION:2.0
PRODID:-//eventon.com NONSGML v1.0//EN
CALSCALE:GREGORIAN
METHOD:PUBLISH
BEGIN:VEVENT
UID:69e8b808ab378
DTSTAMP:20260422T115904Z
DTSTART:20260722T203000Z
DTEND:20260722T220000Z
LOCATION:
SUMMARY:Open Hockey 4:30 TO 6
DESCRIPTION:Open Hockey 4:30 TO 6\nhttps://www.northlandicecenter.com/event
 s/open-hockey-430-to-6-60/
URL:https://www.northlandicecenter.com/events/open-hockey-430-to-6-60/
END:VEVENT
END:VCALENDAR