BEGIN:VCALENDAR
VERSION:2.0
PRODID:-//eventon.com NONSGML v1.0//EN
CALSCALE:GREGORIAN
METHOD:PUBLISH
BEGIN:VEVENT
UID:69e9d758de352
DTSTAMP:20260423T082456Z
DTSTART:20260711T000000Z
DTEND:20260711T020000Z
LOCATION:
SUMMARY:Public Skating 8 to 10
DESCRIPTION:Public Skating 8 to 10\nhttps://www.northlandicecenter.com/even
 ts/public-skating-8-to-10-19/
URL:https://www.northlandicecenter.com/events/public-skating-8-to-10-19/
END:VEVENT
END:VCALENDAR