BEGIN:VCALENDAR
VERSION:2.0
PRODID:-//eventon.com NONSGML v1.0//EN
CALSCALE:GREGORIAN
METHOD:PUBLISH
BEGIN:VEVENT
UID:69e899f1ddd5f
DTSTAMP:20260422T095041Z
DTSTART:20260707T120000Z
DTEND:20260707T170000Z
LOCATION:
SUMMARY:NSA Summer Academy
DESCRIPTION:NSA Summer Academy\nhttps://www.northlandicecenter.com/events/n
 sa-summer-academy-39/
URL:https://www.northlandicecenter.com/events/nsa-summer-academy-39/
END:VEVENT
END:VCALENDAR