BEGIN:VCALENDAR
VERSION:2.0
PRODID:-//eventon.com NONSGML v1.0//EN
CALSCALE:GREGORIAN
METHOD:PUBLISH
BEGIN:VEVENT
UID:69e73508d801f
DTSTAMP:20260421T082752Z
DTSTART:20260621T180000Z
DTEND:20260621T200000Z
LOCATION:
SUMMARY:Public Skating 2 to 4
DESCRIPTION:Public Skating 2 to 4\nhttps://www.northlandicecenter.com/event
 s/public-skating-2-to-4-7/
URL:https://www.northlandicecenter.com/events/public-skating-2-to-4-7/
END:VEVENT
END:VCALENDAR