BEGIN:VCALENDAR
VERSION:2.0
PRODID:-//eventon.com NONSGML v1.0//EN
CALSCALE:GREGORIAN
METHOD:PUBLISH
BEGIN:VEVENT
UID:69e6009b5b2c5
DTSTAMP:20260420T103155Z
DTSTART:20260619T120000Z
DTEND:20260619T170000Z
LOCATION:
SUMMARY:NSA Summer Academy
DESCRIPTION:NSA Summer Academy\nhttps://www.northlandicecenter.com/events/n
 sa-summer-academy-15/
URL:https://www.northlandicecenter.com/events/nsa-summer-academy-15/
END:VEVENT
END:VCALENDAR