BEGIN:VCALENDAR
VERSION:2.0
PRODID:-//eventon.com NONSGML v1.0//EN
CALSCALE:GREGORIAN
METHOD:PUBLISH
BEGIN:VEVENT
UID:69e5ecd8e55d5
DTSTAMP:20260420T090736Z
DTSTART:20260614T140000Z
DTEND:20260614T150000Z
LOCATION:
SUMMARY:Moeller 10 to
DESCRIPTION:Moeller 10 to\nhttps://www.northlandicecenter.com/events/moelle
 r-10-to-2/
URL:https://www.northlandicecenter.com/events/moeller-10-to-2/
END:VEVENT
END:VCALENDAR