BEGIN:VCALENDAR
VERSION:2.0
PRODID:-//eventon.com NONSGML v1.0//EN
CALSCALE:GREGORIAN
METHOD:PUBLISH
BEGIN:VEVENT
UID:69e9ee30bdfd7
DTSTAMP:20260423T100224Z
DTSTART:20260529T220000Z
DTEND:20260530T000000Z
LOCATION:
SUMMARY:AHL
DESCRIPTION:AHL\nhttps://www.northlandicecenter.com/events/ahl-103/
URL:https://www.northlandicecenter.com/events/ahl-103/
END:VEVENT
END:VCALENDAR