BEGIN:VCALENDAR
VERSION:2.0
PRODID:-//eventon.com NONSGML v1.0//EN
CALSCALE:GREGORIAN
METHOD:PUBLISH
BEGIN:VEVENT
UID:69e9d73886478
DTSTAMP:20260423T082424Z
DTSTART:20260529T190000Z
DTEND:20260529T220000Z
LOCATION:
SUMMARY:NSA
DESCRIPTION:NSA\nhttps://www.northlandicecenter.com/events/nsa-47/
URL:https://www.northlandicecenter.com/events/nsa-47/
END:VEVENT
END:VCALENDAR