BEGIN:VCALENDAR
VERSION:2.0
PRODID:-//eventon.com NONSGML v1.0//EN
CALSCALE:GREGORIAN
METHOD:PUBLISH
BEGIN:VEVENT
UID:69e5edafc5674
DTSTAMP:20260420T091111Z
DTSTART:20260529T153000Z
DTEND:20260529T170000Z
LOCATION:
SUMMARY:Open Hockey 11:30 to 1
DESCRIPTION:Open Hockey 11:30 to 1\nhttps://www.northlandicecenter.com/even
 ts/open-hockey-1130-to-1-44/
URL:https://www.northlandicecenter.com/events/open-hockey-1130-to-1-44/
END:VEVENT
END:VCALENDAR