BEGIN:VCALENDAR
VERSION:2.0
PRODID:-//eventon.com NONSGML v1.0//EN
CALSCALE:GREGORIAN
METHOD:PUBLISH
BEGIN:VEVENT
UID:69e88870cc09f
DTSTAMP:20260422T083600Z
DTSTART:20260528T153000Z
DTEND:20260528T170000Z
LOCATION:
SUMMARY:Open Hockey 11:30 to 1
DESCRIPTION:Open Hockey 11:30 to 1\nhttps://www.northlandicecenter.com/even
 ts/open-hockey-1130-to-1-43/
URL:https://www.northlandicecenter.com/events/open-hockey-1130-to-1-43/
END:VEVENT
END:VCALENDAR