BEGIN:VCALENDAR
VERSION:2.0
PRODID:-//eventon.com NONSGML v1.0//EN
CALSCALE:GREGORIAN
METHOD:PUBLISH
BEGIN:VEVENT
UID:69e88acbf27a1
DTSTAMP:20260422T084603Z
DTSTART:20260525T190000Z
DTEND:20260525T220000Z
LOCATION:
SUMMARY:NSA
DESCRIPTION:NSA\nhttps://www.northlandicecenter.com/events/nsa-43/
URL:https://www.northlandicecenter.com/events/nsa-43/
END:VEVENT
END:VCALENDAR