BEGIN:VCALENDAR
VERSION:2.0
PRODID:-//eventon.com NONSGML v1.0//EN
CALSCALE:GREGORIAN
METHOD:PUBLISH
BEGIN:VEVENT
UID:69e734e97b38c
DTSTAMP:20260421T082721Z
DTSTART:20260520T000000Z
DTEND:20260520T050000Z
LOCATION:
SUMMARY:AHL
DESCRIPTION:AHL\nhttps://www.northlandicecenter.com/events/ahl-96/
URL:https://www.northlandicecenter.com/events/ahl-96/
END:VEVENT
END:VCALENDAR