BEGIN:VCALENDAR
VERSION:2.0
PRODID:-//eventon.com NONSGML v1.0//EN
CALSCALE:GREGORIAN
METHOD:PUBLISH
BEGIN:VEVENT
UID:69e6246c20ac8
DTSTAMP:20260420T130444Z
DTSTART:20260416T140000Z
DTEND:20260416T153000Z
LOCATION:
SUMMARY:Stick and Puck 10 to 11:30
DESCRIPTION:Stick and Puck 10 to 11:30\nhttps://www.northlandicecenter.com/
 events/stick-and-puck-10-to-1130-13/
URL:https://www.northlandicecenter.com/events/stick-and-puck-10-to-1130-13/
END:VEVENT
END:VCALENDAR