BEGIN:VCALENDAR
VERSION:2.0
PRODID:-//eventon.com NONSGML v1.0//EN
CALSCALE:GREGORIAN
METHOD:PUBLISH
BEGIN:VEVENT
UID:69e5edb0304dd
DTSTAMP:20260420T091112Z
DTSTART:20260415T220000Z
DTEND:20260415T231500Z
LOCATION:
SUMMARY:AHL
DESCRIPTION:\nhttps://www.northlandicecenter.com/events/ahl-54/
URL:https://www.northlandicecenter.com/events/ahl-54/
END:VEVENT
END:VCALENDAR