BEGIN:VCALENDAR
VERSION:2.0
PRODID:-//eventon.com NONSGML v1.0//EN
CALSCALE:GREGORIAN
METHOD:PUBLISH
BEGIN:VEVENT
UID:69e6517e477c9
DTSTAMP:20260420T161702Z
DTSTART:20260412T133000Z
DTEND:20260412T180000Z
LOCATION:
SUMMARY:Girls Playoff Tournament 10:00AM to 2:00PM
DESCRIPTION:Girls Playoff Tournament 10:00AM to 2:00PM\nhttps://www.northla
 ndicecenter.com/events/girls-playoff-tournament-1000am-to-200pm/
URL:https://www.northlandicecenter.com/events/girls-playoff-tournament-1000am-to-200pm/
END:VEVENT
END:VCALENDAR