BEGIN:VCALENDAR
VERSION:2.0
PRODID:-//eventon.com NONSGML v1.0//EN
CALSCALE:GREGORIAN
METHOD:PUBLISH
BEGIN:VEVENT
UID:69e63b732bd61
DTSTAMP:20260420T144259Z
DTSTART:20260412T121500Z
DTEND:20260412T133000Z
LOCATION:
SUMMARY:Bunke Hockey Group 8:15 - 9:45 AM
DESCRIPTION:Bunke Hockey Group 8:15 - 9:45 AM\nhttps://www.northlandicecent
 er.com/events/bunke-hockey-group-815-945-am-2/
URL:https://www.northlandicecenter.com/events/bunke-hockey-group-815-945-am-2/
END:VEVENT
END:VCALENDAR