BEGIN:VCALENDAR
VERSION:2.0
PRODID:-//eventon.com NONSGML v1.0//EN
CALSCALE:GREGORIAN
METHOD:PUBLISH
BEGIN:VEVENT
UID:69eb41b14b74c
DTSTAMP:20260424T101057Z
DTSTART:20260412T030000Z
DTEND:20260412T035900Z
LOCATION:
SUMMARY:AHL
DESCRIPTION:\nhttps://www.northlandicecenter.com/events/ahl-46/
URL:https://www.northlandicecenter.com/events/ahl-46/
END:VEVENT
END:VCALENDAR