BEGIN:VCALENDAR
VERSION:2.0
PRODID:-//eventon.com NONSGML v1.0//EN
CALSCALE:GREGORIAN
METHOD:PUBLISH
BEGIN:VEVENT
UID:69e6004f549ee
DTSTAMP:20260420T103039Z
DTSTART:20260412T014500Z
DTEND:20260412T030000Z
LOCATION:
SUMMARY:AHL
DESCRIPTION:\nhttps://www.northlandicecenter.com/events/ahl-45/
URL:https://www.northlandicecenter.com/events/ahl-45/
END:VEVENT
END:VCALENDAR